BEGIN:VCALENDAR
VERSION:2.0
PRODID:-//L&#039;Oasis - ECPv6.15.20//NONSGML v1.0//EN
CALSCALE:GREGORIAN
METHOD:PUBLISH
X-ORIGINAL-URL:https://oasis-famille-ecoute.fr
X-WR-CALDESC:Évènements pour L&#039;Oasis
REFRESH-INTERVAL;VALUE=DURATION:PT1H
X-Robots-Tag:noindex
X-PUBLISHED-TTL:PT1H
BEGIN:VTIMEZONE
TZID:Europe/Paris
BEGIN:DAYLIGHT
TZOFFSETFROM:+0100
TZOFFSETTO:+0200
TZNAME:CEST
DTSTART:20240331T010000
END:DAYLIGHT
BEGIN:STANDARD
TZOFFSETFROM:+0200
TZOFFSETTO:+0100
TZNAME:CET
DTSTART:20241027T010000
END:STANDARD
BEGIN:DAYLIGHT
TZOFFSETFROM:+0100
TZOFFSETTO:+0200
TZNAME:CEST
DTSTART:20250330T010000
END:DAYLIGHT
BEGIN:STANDARD
TZOFFSETFROM:+0200
TZOFFSETTO:+0100
TZNAME:CET
DTSTART:20251026T010000
END:STANDARD
BEGIN:DAYLIGHT
TZOFFSETFROM:+0100
TZOFFSETTO:+0200
TZNAME:CEST
DTSTART:20260329T010000
END:DAYLIGHT
BEGIN:STANDARD
TZOFFSETFROM:+0200
TZOFFSETTO:+0100
TZNAME:CET
DTSTART:20261025T010000
END:STANDARD
END:VTIMEZONE
BEGIN:VEVENT
DTSTART;TZID=Europe/Paris:20250526T200000
DTEND;TZID=Europe/Paris:20250806T223000
DTSTAMP:20260425T004202
CREATED:20250315T153350Z
LAST-MODIFIED:20250512T171047Z
UID:2079-1748289600-1754519400@oasis-famille-ecoute.fr
SUMMARY:Parcours Couple 5ième dîner
DESCRIPTION: Le café des Mamans de 10h à 12h\, Venez souffler un peu\, prendre du temps pour vous\, et partager avec les autres mamans.Les enfants en bas âge sont les bienvenusRenseignements: 06 70 48 44 25
URL:https://oasis-famille-ecoute.fr/evenement/alpha-couple-5ieme-diner/
LOCATION:7 Rue du colonel Pélissier\, Toulouse
CATEGORIES:Agenda de l'Oasis,Couple
ORGANIZER;CN="L'OASIS":MAILTO:oasis.familles.31@gmail.com
END:VEVENT
BEGIN:VEVENT
DTSTART;TZID=Europe/Paris:20250602T200000
DTEND;TZID=Europe/Paris:20250602T223000
DTSTAMP:20260425T004202
CREATED:20250315T153505Z
LAST-MODIFIED:20250512T170911Z
UID:2081-1748894400-1748903400@oasis-famille-ecoute.fr
SUMMARY:PARCOURS Couple 6ième dîner
DESCRIPTION: Le café des Mamans de 10h à 12h\, Venez souffler un peu\, prendre du temps pour vous\, et partager avec les autres mamans.Les enfants en bas âge sont les bienvenusRenseignements: 06 70 48 44 25
URL:https://oasis-famille-ecoute.fr/evenement/alpha-couple-6ieme-diner/
LOCATION:7 Rue du colonel Pélissier\, Toulouse
CATEGORIES:Agenda de l'Oasis,Couple
ORGANIZER;CN="L'OASIS":MAILTO:oasis.familles.31@gmail.com
END:VEVENT
BEGIN:VEVENT
DTSTART;VALUE=DATE:20250613
DTEND;VALUE=DATE:20250616
DTSTAMP:20260425T004202
CREATED:20250319T175229Z
LAST-MODIFIED:20251114T182202Z
UID:2204-1749772800-1750031999@oasis-famille-ecoute.fr
SUMMARY:Fête des associations
DESCRIPTION: Le café des Mamans de 10h à 12h\, Venez souffler un peu\, prendre du temps pour vous\, et partager avec les autres mamans.Les enfants en bas âge sont les bienvenusRenseignements: 06 70 48 44 25
URL:https://oasis-famille-ecoute.fr/evenement/fete-des-associations-2/
LOCATION:Place du Capitole\, 31000\, France
CATEGORIES:Agenda de l'Oasis
END:VEVENT
BEGIN:VEVENT
DTSTART;TZID=Europe/Paris:20250616T200000
DTEND;TZID=Europe/Paris:20250616T223000
DTSTAMP:20260425T004202
CREATED:20250315T153626Z
LAST-MODIFIED:20250512T170718Z
UID:2083-1750104000-1750113000@oasis-famille-ecoute.fr
SUMMARY:Parcours Couple 7ième dîner
DESCRIPTION: Le café des Mamans de 10h à 12h\, Venez souffler un peu\, prendre du temps pour vous\, et partager avec les autres mamans.Les enfants en bas âge sont les bienvenusRenseignements: 06 70 48 44 25
URL:https://oasis-famille-ecoute.fr/evenement/alpha-couple-7ieme-diner/
LOCATION:7 Rue du colonel Pélissier\, Toulouse
CATEGORIES:Agenda de l'Oasis,Couple
ORGANIZER;CN="L'OASIS":MAILTO:oasis.familles.31@gmail.com
END:VEVENT
BEGIN:VEVENT
DTSTART;TZID=Europe/Paris:20250617T140000
DTEND;TZID=Europe/Paris:20250617T170000
DTSTAMP:20260425T004202
CREATED:20250501T094247Z
LAST-MODIFIED:20250501T094418Z
UID:2444-1750168800-1750179600@oasis-famille-ecoute.fr
SUMMARY:Atelier Cuisine du 17 Juin
DESCRIPTION: Le café des Mamans de 10h à 12h\, Venez souffler un peu\, prendre du temps pour vous\, et partager avec les autres mamans.Les enfants en bas âge sont les bienvenusRenseignements: 06 70 48 44 25
URL:https://oasis-famille-ecoute.fr/evenement/atelier-cuisine-du-17-juin/
LOCATION:L’Oasis\, 7 rue du Lieutenant-Colonel Pélissier\, Toulouse\, 31000\, France
CATEGORIES:Agenda de l'Oasis
ORGANIZER;CN="L'OASIS":MAILTO:oasis.familles.31@gmail.com
END:VEVENT
BEGIN:VEVENT
DTSTART;TZID=Europe/Paris:20250623T200000
DTEND;TZID=Europe/Paris:20250623T223000
DTSTAMP:20260425T004202
CREATED:20250315T153733Z
LAST-MODIFIED:20250512T170509Z
UID:2085-1750708800-1750717800@oasis-famille-ecoute.fr
SUMMARY:Parcours Couple dîner festif et dernier de la session
DESCRIPTION: Le café des Mamans de 10h à 12h\, Venez souffler un peu\, prendre du temps pour vous\, et partager avec les autres mamans.Les enfants en bas âge sont les bienvenusRenseignements: 06 70 48 44 25
URL:https://oasis-famille-ecoute.fr/evenement/alpha-couple-8ieme-et-dernier-diner-de-la-session/
LOCATION:7 Rue du colonel Pélissier\, Toulouse
CATEGORIES:Agenda de l'Oasis,Couple,Couple
ORGANIZER;CN="L'OASIS":MAILTO:oasis.familles.31@gmail.com
END:VEVENT
END:VCALENDAR