BEGIN:VCALENDAR
VERSION:2.0
PRODID:-//L&#039;Oasis - ECPv6.15.20//NONSGML v1.0//EN
CALSCALE:GREGORIAN
METHOD:PUBLISH
X-WR-CALNAME:L&#039;Oasis
X-ORIGINAL-URL:https://oasis-famille-ecoute.fr
X-WR-CALDESC:Évènements pour L&#039;Oasis
REFRESH-INTERVAL;VALUE=DURATION:PT1H
X-Robots-Tag:noindex
X-PUBLISHED-TTL:PT1H
BEGIN:VTIMEZONE
TZID:Europe/Paris
BEGIN:DAYLIGHT
TZOFFSETFROM:+0100
TZOFFSETTO:+0200
TZNAME:CEST
DTSTART:20250330T010000
END:DAYLIGHT
BEGIN:STANDARD
TZOFFSETFROM:+0200
TZOFFSETTO:+0100
TZNAME:CET
DTSTART:20251026T010000
END:STANDARD
BEGIN:DAYLIGHT
TZOFFSETFROM:+0100
TZOFFSETTO:+0200
TZNAME:CEST
DTSTART:20260329T010000
END:DAYLIGHT
BEGIN:STANDARD
TZOFFSETFROM:+0200
TZOFFSETTO:+0100
TZNAME:CET
DTSTART:20261025T010000
END:STANDARD
BEGIN:DAYLIGHT
TZOFFSETFROM:+0100
TZOFFSETTO:+0200
TZNAME:CEST
DTSTART:20270328T010000
END:DAYLIGHT
BEGIN:STANDARD
TZOFFSETFROM:+0200
TZOFFSETTO:+0100
TZNAME:CET
DTSTART:20271031T010000
END:STANDARD
END:VTIMEZONE
BEGIN:VEVENT
DTSTART;TZID=Europe/Paris:20260504T200000
DTEND;TZID=Europe/Paris:20260504T223000
DTSTAMP:20260424T092910
CREATED:20260219T154152Z
LAST-MODIFIED:20260324T105458Z
UID:3757-1777924800-1777933800@oasis-famille-ecoute.fr
SUMMARY:Parcours couple  2026 1
DESCRIPTION: Le café des Mamans de 10h à 12h\, Venez souffler un peu\, prendre du temps pour vous\, et partager avec les autres mamans.Les enfants en bas âge sont les bienvenusRenseignements: 06 70 48 44 25
URL:https://oasis-famille-ecoute.fr/evenement/parcours-couple-2026-1/
LOCATION:L’Oasis\, 7 rue du Lieutenant-Colonel Pélissier\, Toulouse\, 31000\, France
CATEGORIES:Agenda de l'Oasis,Couple,Couple
ORGANIZER;CN="L'OASIS":MAILTO:oasis.familles.31@gmail.com
END:VEVENT
BEGIN:VEVENT
DTSTART;TZID=Europe/Paris:20260511T200000
DTEND;TZID=Europe/Paris:20260511T223000
DTSTAMP:20260424T092910
CREATED:20260219T155404Z
LAST-MODIFIED:20260324T113105Z
UID:3772-1778529600-1778538600@oasis-famille-ecoute.fr
SUMMARY:Parcours couple 2026 2
DESCRIPTION: Le café des Mamans de 10h à 12h\, Venez souffler un peu\, prendre du temps pour vous\, et partager avec les autres mamans.Les enfants en bas âge sont les bienvenusRenseignements: 06 70 48 44 25
URL:https://oasis-famille-ecoute.fr/evenement/parcours-couple-2026-2/
LOCATION:L’Oasis\, 7 rue du Lieutenant-Colonel Pélissier\, Toulouse\, 31000\, France
CATEGORIES:Agenda de l'Oasis,Couple,Couple
ORGANIZER;CN="L'OASIS":MAILTO:oasis.familles.31@gmail.com
END:VEVENT
BEGIN:VEVENT
DTSTART;TZID=Europe/Paris:20260518T200000
DTEND;TZID=Europe/Paris:20260518T223000
DTSTAMP:20260424T092910
CREATED:20260219T160453Z
LAST-MODIFIED:20260324T105252Z
UID:3785-1779134400-1779143400@oasis-famille-ecoute.fr
SUMMARY:Parcours couple 2026 3
DESCRIPTION: Le café des Mamans de 10h à 12h\, Venez souffler un peu\, prendre du temps pour vous\, et partager avec les autres mamans.Les enfants en bas âge sont les bienvenusRenseignements: 06 70 48 44 25
URL:https://oasis-famille-ecoute.fr/evenement/parcours-couple-2026-3/
LOCATION:L’Oasis\, 7 rue du Lieutenant-Colonel Pélissier\, Toulouse\, 31000\, France
CATEGORIES:Agenda de l'Oasis,Couple,Couple
ORGANIZER;CN="L'OASIS":MAILTO:oasis.familles.31@gmail.com
END:VEVENT
BEGIN:VEVENT
DTSTART;TZID=Europe/Paris:20260528T100000
DTEND;TZID=Europe/Paris:20260528T120000
DTSTAMP:20260424T092910
CREATED:20260324T173758Z
LAST-MODIFIED:20260324T181646Z
UID:3911-1779962400-1779969600@oasis-famille-ecoute.fr
SUMMARY:28-Mai-2026 - Le café des Mamans
DESCRIPTION: Le café des Mamans de 10h à 12h\, Venez souffler un peu\, prendre du temps pour vous\, et partager avec les autres mamans.Les enfants en bas âge sont les bienvenusRenseignements: 06 70 48 44 25
URL:https://oasis-famille-ecoute.fr/evenement/28-05-26-le-cafe-des-mamans/
LOCATION:Paroisse Sainte Germaine\, 59 Avenue de l'URSS\, Toulouse\, 31400\, France
CATEGORIES:Agenda de l'Oasis,Parents
ORGANIZER;CN="L'OASIS":MAILTO:oasis.familles.31@gmail.com
END:VEVENT
END:VCALENDAR