BEGIN:VCALENDAR
VERSION:2.0
PRODID:-//L&#039;Oasis - ECPv6.15.20//NONSGML v1.0//EN
CALSCALE:GREGORIAN
METHOD:PUBLISH
X-WR-CALNAME:L&#039;Oasis
X-ORIGINAL-URL:https://oasis-famille-ecoute.fr
X-WR-CALDESC:Évènements pour L&#039;Oasis
REFRESH-INTERVAL;VALUE=DURATION:PT1H
X-Robots-Tag:noindex
X-PUBLISHED-TTL:PT1H
BEGIN:VTIMEZONE
TZID:Europe/Paris
BEGIN:DAYLIGHT
TZOFFSETFROM:+0100
TZOFFSETTO:+0200
TZNAME:CEST
DTSTART:20250330T010000
END:DAYLIGHT
BEGIN:STANDARD
TZOFFSETFROM:+0200
TZOFFSETTO:+0100
TZNAME:CET
DTSTART:20251026T010000
END:STANDARD
BEGIN:DAYLIGHT
TZOFFSETFROM:+0100
TZOFFSETTO:+0200
TZNAME:CEST
DTSTART:20260329T010000
END:DAYLIGHT
BEGIN:STANDARD
TZOFFSETFROM:+0200
TZOFFSETTO:+0100
TZNAME:CET
DTSTART:20261025T010000
END:STANDARD
BEGIN:DAYLIGHT
TZOFFSETFROM:+0100
TZOFFSETTO:+0200
TZNAME:CEST
DTSTART:20270328T010000
END:DAYLIGHT
BEGIN:STANDARD
TZOFFSETFROM:+0200
TZOFFSETTO:+0100
TZNAME:CET
DTSTART:20271031T010000
END:STANDARD
END:VTIMEZONE
BEGIN:VEVENT
DTSTART;TZID=Europe/Paris:20260601T200000
DTEND;TZID=Europe/Paris:20260601T223000
DTSTAMP:20260424T110806
CREATED:20260219T173427Z
LAST-MODIFIED:20260324T105128Z
UID:3796-1780344000-1780353000@oasis-famille-ecoute.fr
SUMMARY:Parcours couple 2026 4
DESCRIPTION: Le café des Mamans de 10h à 12h\, Venez souffler un peu\, prendre du temps pour vous\, et partager avec les autres mamans.Les enfants en bas âge sont les bienvenusRenseignements: 06 70 48 44 25
URL:https://oasis-famille-ecoute.fr/evenement/parcours-couple-2026-4/
LOCATION:L’Oasis\, 7 rue du Lieutenant-Colonel Pélissier\, Toulouse\, 31000\, France
CATEGORIES:Agenda de l'Oasis,Couple,Couple
ORGANIZER;CN="L'OASIS":MAILTO:oasis.familles.31@gmail.com
END:VEVENT
BEGIN:VEVENT
DTSTART;TZID=Europe/Paris:20260608T200000
DTEND;TZID=Europe/Paris:20260608T223000
DTSTAMP:20260424T110806
CREATED:20260219T173915Z
LAST-MODIFIED:20260324T105003Z
UID:3800-1780948800-1780957800@oasis-famille-ecoute.fr
SUMMARY:Parcours couple 2026 5
DESCRIPTION: Le café des Mamans de 10h à 12h\, Venez souffler un peu\, prendre du temps pour vous\, et partager avec les autres mamans.Les enfants en bas âge sont les bienvenusRenseignements: 06 70 48 44 25
URL:https://oasis-famille-ecoute.fr/evenement/parcours-couple-2026-5/
LOCATION:L’Oasis\, 7 rue du Lieutenant-Colonel Pélissier\, Toulouse\, 31000\, France
CATEGORIES:Agenda de l'Oasis,Couple,Couple
ORGANIZER;CN="L'OASIS":MAILTO:oasis.familles.31@gmail.com
END:VEVENT
BEGIN:VEVENT
DTSTART;TZID=Europe/Paris:20260611T100000
DTEND;TZID=Europe/Paris:20260611T120000
DTSTAMP:20260424T110806
CREATED:20260324T175714Z
LAST-MODIFIED:20260324T183413Z
UID:3923-1781172000-1781179200@oasis-famille-ecoute.fr
SUMMARY:11-Juin-2026 Le café des Mamans
DESCRIPTION: Le café des Mamans de 10h à 12h\, Venez souffler un peu\, prendre du temps pour vous\, et partager avec les autres mamans.Les enfants en bas âge sont les bienvenusRenseignements: 06 70 48 44 25
URL:https://oasis-famille-ecoute.fr/evenement/11-juin-2026-le-cafe-des-mamans/
LOCATION:Paroisse Sainte Germaine\, 59 Avenue de l'URSS\, Toulouse\, 31400\, France
CATEGORIES:Agenda de l'Oasis,Parents
ORGANIZER;CN="L'OASIS":MAILTO:oasis.familles.31@gmail.com
END:VEVENT
BEGIN:VEVENT
DTSTART;TZID=Europe/Paris:20260615T200000
DTEND;TZID=Europe/Paris:20260615T223000
DTSTAMP:20260424T110806
CREATED:20260219T174345Z
LAST-MODIFIED:20260324T104900Z
UID:3807-1781553600-1781562600@oasis-famille-ecoute.fr
SUMMARY:Parcours couple 2026 6
DESCRIPTION: Le café des Mamans de 10h à 12h\, Venez souffler un peu\, prendre du temps pour vous\, et partager avec les autres mamans.Les enfants en bas âge sont les bienvenusRenseignements: 06 70 48 44 25
URL:https://oasis-famille-ecoute.fr/evenement/parcours-couple-2026-6/
LOCATION:L’Oasis\, 7 rue du Lieutenant-Colonel Pélissier\, Toulouse\, 31000\, France
CATEGORIES:Agenda de l'Oasis,Couple,Couple
ORGANIZER;CN="L'OASIS":MAILTO:oasis.familles.31@gmail.com
END:VEVENT
BEGIN:VEVENT
DTSTART;TZID=Europe/Paris:20260622T200000
DTEND;TZID=Europe/Paris:20260622T223000
DTSTAMP:20260424T110806
CREATED:20260219T174702Z
LAST-MODIFIED:20260324T104657Z
UID:3811-1782158400-1782167400@oasis-famille-ecoute.fr
SUMMARY:Parcours couple 2026 7
DESCRIPTION: Le café des Mamans de 10h à 12h\, Venez souffler un peu\, prendre du temps pour vous\, et partager avec les autres mamans.Les enfants en bas âge sont les bienvenusRenseignements: 06 70 48 44 25
URL:https://oasis-famille-ecoute.fr/evenement/parcours-couple-2026-7/
LOCATION:L’Oasis\, 7 rue du Lieutenant-Colonel Pélissier\, Toulouse\, 31000\, France
CATEGORIES:Agenda de l'Oasis,Couple,Couple
ORGANIZER;CN="L'OASIS":MAILTO:oasis.familles.31@gmail.com
END:VEVENT
END:VCALENDAR